BEGIN:VCALENDAR
VERSION:2.0
PRODID:-//IILM Career Management Centre - ECPv6.3.3.1//NONSGML v1.0//EN
CALSCALE:GREGORIAN
METHOD:PUBLISH
X-WR-CALNAME:IILM Career Management Centre
X-ORIGINAL-URL:https://iilm.edu/placements
X-WR-CALDESC:Events for IILM Career Management Centre
REFRESH-INTERVAL;VALUE=DURATION:PT1H
X-Robots-Tag:noindex
X-PUBLISHED-TTL:PT1H
BEGIN:VTIMEZONE
TZID:Asia/Kolkata
BEGIN:STANDARD
TZOFFSETFROM:+0530
TZOFFSETTO:+0530
TZNAME:IST
DTSTART:20160101T000000
END:STANDARD
END:VTIMEZONE
BEGIN:VEVENT
DTSTART;TZID=Asia/Kolkata:20161114T090000
DTEND;TZID=Asia/Kolkata:20161118T170000
DTSTAMP:20260421T105118
CREATED:20161113T065954Z
LAST-MODIFIED:20161117T065218Z
UID:8711-1479114000-1479488400@iilm.edu
SUMMARY:Placement Week | November
DESCRIPTION:We are beginning with Placement Week 3 from Monday and here you go with the itinerary for the day. \nPLACEMENT WEEK 3 Nov 14-18\, 2016 \nPG Year 1; Schedule for Mon\, Nov 14 2016 \nVenue Room 204 | IILM Gurgaon Campus \n\n\n\nTIME\nSESSION\nFACILITATOR\n\n\n9:30 AM – 10:30 AM\nResume\nMentors\n\n\n10:45 AM – 11:45 AM\nLinkedin\nMentors\n\n\n12 Noon – 1 PM\nGD: Do’s and Don’ts\nRuchi/Radhika\n\n\n1PM – 2 PM\nLUNCH\nLUNCH\n\n\n2 PM – 3 PM\nJD Floated and \nRubrics Description\nRuchi\n\n\n3 PM – 4:30 PM\nInfo graphics for Business\nDebeshi Chakraborty\,  Communication specialist
URL:https://iilm.edu/placements/event/placement-week-nov/
LOCATION:IILM Campuses\, Delhi\, India
CATEGORIES:Placement Week
ATTACH;FMTTYPE=image/jpeg:https://iilm.edu/placements/wp-content/uploads/2016/11/Placement-Week-3.jpg
END:VEVENT
END:VCALENDAR